Package: RnBeads.mm10 Version: 2.18.0 Maintainer: RnBeads Team MaintainerEmail: team at rnbeads.org git_url: https://git.bioconductor.org/packages/RnBeads.mm10 git_branch: RELEASE_3_22 git_last_commit: f468d9a git_last_commit_date: 2025-10-29 09:56:32 -0400 (Wed, 29 Oct 2025)