Package: RnBeads.hg38 Version: 1.41.1 Command: /home/biocbuild/bbs-3.22-bioc/R/bin/R CMD build --keep-empty-dirs --no-resave-data RnBeads.hg38 StartedAt: 2025-10-28 11:37:54 -0400 (Tue, 28 Oct 2025) EndedAt: 2025-10-28 11:38:48 -0400 (Tue, 28 Oct 2025) EllapsedTime: 53.4 seconds RetCode: 0 Status: OK PackageFile: RnBeads.hg38_1.41.1.tar.gz PackageFileSize: 172 MiB