Package: RITANdata Version: 1.33.0 Command: /home/biocbuild/bbs-3.22-bioc/R/bin/R CMD INSTALL RITANdata StartedAt: 2025-10-07 10:55:29 -0400 (Tue, 07 Oct 2025) EndedAt: 2025-10-07 10:56:00 -0400 (Tue, 07 Oct 2025) EllapsedTime: 31.4 seconds RetCode: 0 Status: OK