Package: QUBICdata Version: 1.37.0 Command: /home/biocbuild/bbs-3.22-bioc/R/bin/R CMD INSTALL QUBICdata StartedAt: 2025-10-09 10:57:42 -0400 (Thu, 09 Oct 2025) EndedAt: 2025-10-09 10:57:44 -0400 (Thu, 09 Oct 2025) EllapsedTime: 1.7 seconds RetCode: 0 Status: OK