Package: QUBICdata Version: 1.37.0 Command: /home/biocbuild/bbs-3.22-bioc/R/bin/R CMD build --keep-empty-dirs --no-resave-data QUBICdata StartedAt: 2025-10-09 11:36:30 -0400 (Thu, 09 Oct 2025) EndedAt: 2025-10-09 11:36:37 -0400 (Thu, 09 Oct 2025) EllapsedTime: 7.0 seconds RetCode: 0 Status: OK PackageFile: QUBICdata_1.37.0.tar.gz PackageFileSize: 9.848 MiB