Package: PtH2O2lipids Version: 1.35.0 Command: /home/biocbuild/bbs-3.22-bioc/R/bin/R CMD INSTALL PtH2O2lipids StartedAt: 2025-10-09 11:04:24 -0400 (Thu, 09 Oct 2025) EndedAt: 2025-10-09 11:05:18 -0400 (Thu, 09 Oct 2025) EllapsedTime: 53.5 seconds RetCode: 0 Status: OK