Package: ProteinGymR Version: 1.4.0 Maintainer: Tram Nguyen MaintainerEmail: Tram_Nguyen at hms.harvard.edu git_url: https://git.bioconductor.org/packages/ProteinGymR git_branch: RELEASE_3_22 git_last_commit: a6ca341 git_last_commit_date: 2025-10-29 10:06:44 -0500 (Wed, 29 Oct 2025)