Package: PhyloProfileData Version: 1.24.0 Command: /home/biocbuild/bbs-3.22-bioc/R/bin/R CMD check --install=check:PhyloProfileData.install-out.txt --library=/home/biocbuild/bbs-3.22-bioc/R/site-library --timings PhyloProfileData_1.24.0.tar.gz StartedAt: 2025-11-13 12:56:08 -0500 (Thu, 13 Nov 2025) EndedAt: 2025-11-13 12:58:10 -0500 (Thu, 13 Nov 2025) EllapsedTime: 122.1 seconds RetCode: 0 Status: OK CheckDir: PhyloProfileData.Rcheck Warnings: 0