Package: PepsNMRData Version: 1.28.0 Maintainer: Manon Martin MaintainerEmail: manon.martin at uclouvain.be git_url: https://git.bioconductor.org/packages/PepsNMRData git_branch: RELEASE_3_22 git_last_commit: 52f9bd5 git_last_commit_date: 2025-10-29 10:00:58 -0400 (Wed, 29 Oct 2025)