Package: PWMEnrich.Hsapiens.background Version: 4.43.0 Command: /home/biocbuild/bbs-3.22-bioc/R/bin/R CMD INSTALL PWMEnrich.Hsapiens.background StartedAt: 2025-09-30 10:57:37 -0400 (Tue, 30 Sep 2025) EndedAt: 2025-09-30 10:57:44 -0400 (Tue, 30 Sep 2025) EllapsedTime: 7.0 seconds RetCode: 0 Status: OK