Package: PWMEnrich.Hsapiens.background Version: 4.43.0 Command: /home/biocbuild/bbs-3.22-bioc/R/bin/R CMD build --keep-empty-dirs --no-resave-data PWMEnrich.Hsapiens.background StartedAt: 2025-09-30 11:36:23 -0400 (Tue, 30 Sep 2025) EndedAt: 2025-09-30 11:36:25 -0400 (Tue, 30 Sep 2025) EllapsedTime: 1.4 seconds RetCode: 0 Status: OK PackageFile: PWMEnrich.Hsapiens.background_4.43.0.tar.gz PackageFileSize: 12.31 MiB