Package: PCHiCdata Version: 1.37.0 Command: /home/biocbuild/bbs-3.22-bioc/R/bin/R CMD INSTALL PCHiCdata StartedAt: 2025-10-02 10:57:52 -0400 (Thu, 02 Oct 2025) EndedAt: 2025-10-02 10:58:33 -0400 (Thu, 02 Oct 2025) EllapsedTime: 40.5 seconds RetCode: 0 Status: OK