Package: PCHiCdata Version: 1.37.0 Command: /home/biocbuild/bbs-3.22-bioc/R/bin/R CMD build --keep-empty-dirs --no-resave-data PCHiCdata StartedAt: 2025-10-02 11:34:51 -0400 (Thu, 02 Oct 2025) EndedAt: 2025-10-02 11:36:39 -0400 (Thu, 02 Oct 2025) EllapsedTime: 108.2 seconds RetCode: 0 Status: OK PackageFile: PCHiCdata_1.37.0.tar.gz PackageFileSize: 183.3 MiB