Package: OMICsPCAdata Version: 1.27.0 Command: /home/biocbuild/bbs-3.22-bioc/R/bin/R CMD INSTALL OMICsPCAdata StartedAt: 2025-10-07 11:00:11 -0400 (Tue, 07 Oct 2025) EndedAt: 2025-10-07 11:00:53 -0400 (Tue, 07 Oct 2025) EllapsedTime: 41.3 seconds RetCode: 0 Status: OK