Package: Neve2006 Version: 0.48.0 Maintainer: VJ Carey MaintainerEmail: stvjc at channing.harvard.edu git_url: https://git.bioconductor.org/packages/Neve2006 git_branch: RELEASE_3_22 git_last_commit: b16f1a4 git_last_commit_date: 2025-10-29 09:30:58 -0400 (Wed, 29 Oct 2025)