Package: NestLink Version: 1.25.0 Command: /home/biocbuild/bbs-3.22-bioc/R/bin/R CMD INSTALL NestLink StartedAt: 2025-10-16 11:04:04 -0400 (Thu, 16 Oct 2025) EndedAt: 2025-10-16 11:04:41 -0400 (Thu, 16 Oct 2025) EllapsedTime: 37.4 seconds RetCode: 0 Status: OK