Package: NanoporeRNASeq Version: 1.19.0 Command: /home/biocbuild/bbs-3.22-bioc/R/bin/R CMD INSTALL NanoporeRNASeq StartedAt: 2025-10-09 10:57:02 -0400 (Thu, 09 Oct 2025) EndedAt: 2025-10-09 10:57:12 -0400 (Thu, 09 Oct 2025) EllapsedTime: 9.6 seconds RetCode: 0 Status: OK