Package: NGScopyData Version: 1.30.0 Maintainer: Xiaobei Zhao MaintainerEmail: xiaobei at binf.ku.dk git_url: https://git.bioconductor.org/packages/NGScopyData git_branch: RELEASE_3_22 git_last_commit: c673704 git_last_commit_date: 2025-10-29 09:55:44 -0400 (Wed, 29 Oct 2025)