Package: NCIgraphData Version: 1.46.0 Maintainer: Laurent Jacob MaintainerEmail: laurent.jacob at gmail.com git_url: https://git.bioconductor.org/packages/NCIgraphData git_branch: RELEASE_3_22 git_last_commit: d0095e6 git_last_commit_date: 2025-10-29 09:32:24 -0500 (Wed, 29 Oct 2025)