Package: MouseThymusAgeing Version: 1.17.0 Command: /home/biocbuild/bbs-3.22-bioc/R/bin/R CMD INSTALL MouseThymusAgeing StartedAt: 2025-09-30 11:01:17 -0400 (Tue, 30 Sep 2025) EndedAt: 2025-09-30 11:01:45 -0400 (Tue, 30 Sep 2025) EllapsedTime: 28.2 seconds RetCode: 0 Status: OK