Package: MouseAgingData Version: 1.6.0 Command: /home/biocbuild/bbs-3.22-bioc/R/bin/R CMD check --install=check:MouseAgingData.install-out.txt --library=/home/biocbuild/bbs-3.22-bioc/R/site-library --timings MouseAgingData_1.6.0.tar.gz StartedAt: 2025-11-11 12:42:34 -0500 (Tue, 11 Nov 2025) EndedAt: 2025-11-11 12:46:07 -0500 (Tue, 11 Nov 2025) EllapsedTime: 212.4 seconds RetCode: 0 Status: OK CheckDir: MouseAgingData.Rcheck Warnings: 0