Package: MicrobiomeBenchmarkData Version: 1.11.0 Command: /home/biocbuild/bbs-3.22-bioc/R/bin/R CMD check --install=check:MicrobiomeBenchmarkData.install-out.txt --library=/home/biocbuild/bbs-3.22-bioc/R/site-library --timings MicrobiomeBenchmarkData_1.11.0.tar.gz StartedAt: 2025-10-21 12:42:01 -0400 (Tue, 21 Oct 2025) EndedAt: 2025-10-21 12:47:42 -0400 (Tue, 21 Oct 2025) EllapsedTime: 341.0 seconds RetCode: 0 Status: OK CheckDir: MicrobiomeBenchmarkData.Rcheck Warnings: 0