Package: MethylAidData Version: 1.42.0 Maintainer: M. van Iterson MaintainerEmail: mviterson at gmail.com git_url: https://git.bioconductor.org/packages/MethylAidData git_branch: RELEASE_3_22 git_last_commit: 020dc02 git_last_commit_date: 2025-10-29 09:56:19 -0400 (Wed, 29 Oct 2025)