Package: MerfishData Version: 1.12.0 Command: /home/biocbuild/bbs-3.22-bioc/R/bin/R CMD check --install=check:MerfishData.install-out.txt --library=/home/biocbuild/bbs-3.22-bioc/R/site-library --timings MerfishData_1.12.0.tar.gz StartedAt: 2025-11-06 12:38:08 -0500 (Thu, 06 Nov 2025) EndedAt: 2025-11-06 12:57:43 -0500 (Thu, 06 Nov 2025) EllapsedTime: 1174.8 seconds RetCode: 0 Status: OK CheckDir: MerfishData.Rcheck Warnings: 0