Package: MEDIPSData Version: 1.46.0 Maintainer: Lukas Chavez MaintainerEmail: lchavez at liai.org git_url: https://git.bioconductor.org/packages/MEDIPSData git_branch: RELEASE_3_22 git_last_commit: 1d8e5ae git_last_commit_date: 2025-10-29 09:33:21 -0500 (Wed, 29 Oct 2025)