Package: MAQCsubset Version: 1.47.0 Command: /home/biocbuild/bbs-3.22-bioc/R/bin/R CMD INSTALL MAQCsubset StartedAt: 2025-10-02 11:04:20 -0400 (Thu, 02 Oct 2025) EndedAt: 2025-10-02 11:05:15 -0400 (Thu, 02 Oct 2025) EllapsedTime: 54.7 seconds RetCode: 0 Status: OK