Package: LiebermanAidenHiC2009 Version: 0.48.0 Maintainer: Felix Klein MaintainerEmail: fklein at embl.de git_url: https://git.bioconductor.org/packages/LiebermanAidenHiC2009 git_branch: RELEASE_3_22 git_last_commit: dd5e446 git_last_commit_date: 2025-10-29 09:32:34 -0500 (Wed, 29 Oct 2025)