Package: KEGGdzPathwaysGEO Version: 1.48.0 Maintainer: Gaurav Bhatti MaintainerEmail: gbhatti at med.wayne.edu git_url: https://git.bioconductor.org/packages/KEGGdzPathwaysGEO git_branch: RELEASE_3_22 git_last_commit: ff167f3 git_last_commit_date: 2025-10-29 09:33:26 -0500 (Wed, 29 Oct 2025)