Package: KEGGandMetacoreDzPathwaysGEO Version: 1.30.0 Maintainer: Gaurav Bhatti MaintainerEmail: gbhatti at med.wayne.edu git_url: https://git.bioconductor.org/packages/KEGGandMetacoreDzPathwaysGEO git_branch: RELEASE_3_22 git_last_commit: 08b0d77 git_last_commit_date: 2025-10-29 09:55:07 -0400 (Wed, 29 Oct 2025)