Package: JohnsonKinaseData Version: 1.6.0 Maintainer: Florian Geier MaintainerEmail: florian.geier at unibas.ch git_url: https://git.bioconductor.org/packages/JohnsonKinaseData git_branch: RELEASE_3_22 git_last_commit: 6ff1db4 git_last_commit_date: 2025-10-29 10:06:29 -0500 (Wed, 29 Oct 2025)