Package: JASPAR2014 Version: 1.46.0 Command: /home/biocbuild/bbs-3.22-bioc/R/bin/R CMD check --install=check:JASPAR2014.install-out.txt --library=/home/biocbuild/bbs-3.22-bioc/R/site-library --timings JASPAR2014_1.46.0.tar.gz StartedAt: 2025-11-06 12:32:31 -0500 (Thu, 06 Nov 2025) EndedAt: 2025-11-06 12:33:51 -0500 (Thu, 06 Nov 2025) EllapsedTime: 80.3 seconds RetCode: 0 Status: WARNINGS CheckDir: JASPAR2014.Rcheck Warnings: 1