Package: IlluminaDataTestFiles Version: 1.48.0 Maintainer: Kasper Daniel Hansen MaintainerEmail: khansen at jhsph.edu git_url: https://git.bioconductor.org/packages/IlluminaDataTestFiles git_branch: RELEASE_3_22 git_last_commit: 7567e5f git_last_commit_date: 2025-10-29 09:53:45 -0400 (Wed, 29 Oct 2025)