Package: ITALICSData Version: 2.48.0 Command: /home/biocbuild/bbs-3.22-bioc/R/bin/R CMD check --install=check:ITALICSData.install-out.txt --library=/home/biocbuild/bbs-3.22-bioc/R/site-library --timings ITALICSData_2.48.0.tar.gz StartedAt: 2025-11-06 12:32:09 -0500 (Thu, 06 Nov 2025) EndedAt: 2025-11-06 12:32:29 -0500 (Thu, 06 Nov 2025) EllapsedTime: 20.0 seconds RetCode: 0 Status: WARNINGS CheckDir: ITALICSData.Rcheck Warnings: 1