Package: IHWpaper Version: 1.38.0 Maintainer: Nikos Ignatiadis MaintainerEmail: nikos.ignatiadis01 at gmail.com git_url: https://git.bioconductor.org/packages/IHWpaper git_branch: RELEASE_3_22 git_last_commit: 9d08436 git_last_commit_date: 2025-10-29 09:58:30 -0500 (Wed, 29 Oct 2025)