Package: HumanAffyData Version: 1.36.0 Maintainer: Brad Nelms MaintainerEmail: bnelms.research at gmail.com git_url: https://git.bioconductor.org/packages/HumanAffyData git_branch: RELEASE_3_22 git_last_commit: 3b928f3 git_last_commit_date: 2025-10-29 09:58:57 -0400 (Wed, 29 Oct 2025)