Package: HighlyReplicatedRNASeq Version: 1.22.0 Command: /home/biocbuild/bbs-3.22-bioc/R/bin/R CMD check --install=check:HighlyReplicatedRNASeq.install-out.txt --library=/home/biocbuild/bbs-3.22-bioc/R/site-library --timings HighlyReplicatedRNASeq_1.22.0.tar.gz StartedAt: 2025-11-13 12:34:25 -0500 (Thu, 13 Nov 2025) EndedAt: 2025-11-13 12:38:28 -0500 (Thu, 13 Nov 2025) EllapsedTime: 242.6 seconds RetCode: 0 Status: OK CheckDir: HighlyReplicatedRNASeq.Rcheck Warnings: 0