Package: HiCDataHumanIMR90 Version: 1.29.0 Command: /home/biocbuild/bbs-3.22-bioc/R/bin/R CMD check --install=check:HiCDataHumanIMR90.install-out.txt --library=/home/biocbuild/bbs-3.22-bioc/R/site-library --timings HiCDataHumanIMR90_1.29.0.tar.gz StartedAt: 2025-10-09 12:31:59 -0400 (Thu, 09 Oct 2025) EndedAt: 2025-10-09 12:34:10 -0400 (Thu, 09 Oct 2025) EllapsedTime: 130.4 seconds RetCode: 0 Status: WARNINGS CheckDir: HiCDataHumanIMR90.Rcheck Warnings: 1