Package: HiBED Version: 1.8.0 Maintainer: Ze Zhang MaintainerEmail: ze.zhang.gr at dartmouth.edu git_url: https://git.bioconductor.org/packages/HiBED git_branch: RELEASE_3_22 git_last_commit: 1b05c21 git_last_commit_date: 2025-10-29 10:05:41 -0500 (Wed, 29 Oct 2025)