Package: HelloRangesData Version: 1.35.0 Command: /home/biocbuild/bbs-3.22-bioc/R/bin/R CMD check --install=check:HelloRangesData.install-out.txt --library=/home/biocbuild/bbs-3.22-bioc/R/site-library --timings HelloRangesData_1.35.0.tar.gz StartedAt: 2025-10-07 12:28:57 -0400 (Tue, 07 Oct 2025) EndedAt: 2025-10-07 12:29:17 -0400 (Tue, 07 Oct 2025) EllapsedTime: 19.2 seconds RetCode: 0 Status: OK CheckDir: HelloRangesData.Rcheck Warnings: 0