Package: HarmanData Version: 1.37.0 Command: /home/biocbuild/bbs-3.22-bioc/R/bin/R CMD build --keep-empty-dirs --no-resave-data HarmanData StartedAt: 2025-09-30 11:21:09 -0400 (Tue, 30 Sep 2025) EndedAt: 2025-09-30 11:21:33 -0400 (Tue, 30 Sep 2025) EllapsedTime: 24.3 seconds RetCode: 0 Status: OK PackageFile: HarmanData_1.37.0.tar.gz PackageFileSize: 54.65 MiB