Package: HMP2Data Version: 1.24.0 Command: /home/biocbuild/bbs-3.22-bioc/R/bin/R CMD check --install=check:HMP2Data.install-out.txt --library=/home/biocbuild/bbs-3.22-bioc/R/site-library --timings HMP2Data_1.24.0.tar.gz StartedAt: 2025-11-20 12:42:20 -0500 (Thu, 20 Nov 2025) EndedAt: 2025-11-20 12:47:32 -0500 (Thu, 20 Nov 2025) EllapsedTime: 312.4 seconds RetCode: 0 Status: OK CheckDir: HMP2Data.Rcheck Warnings: 0