Package: HIVcDNAvantWout03 Version: 1.49.0 Command: /home/biocbuild/bbs-3.22-bioc/R/bin/R CMD build --keep-empty-dirs --no-resave-data HIVcDNAvantWout03 StartedAt: 2025-10-02 11:24:00 -0400 (Thu, 02 Oct 2025) EndedAt: 2025-10-02 11:24:05 -0400 (Thu, 02 Oct 2025) EllapsedTime: 5.3 seconds RetCode: 0 Status: OK PackageFile: HIVcDNAvantWout03_1.49.0.tar.gz PackageFileSize: 1.711 MiB