Package: HEEBOdata Version: 1.47.0 Command: /home/biocbuild/bbs-3.22-bioc/R/bin/R CMD build --keep-empty-dirs --no-resave-data HEEBOdata StartedAt: 2025-09-30 11:23:08 -0400 (Tue, 30 Sep 2025) EndedAt: 2025-09-30 11:23:14 -0400 (Tue, 30 Sep 2025) EllapsedTime: 6.0 seconds RetCode: 0 Status: OK PackageFile: HEEBOdata_1.47.0.tar.gz PackageFileSize: 8.269 MiB