Package: HCATonsilData Version: 1.8.0 Maintainer: Ramon Massoni-Badosa MaintainerEmail: ramonmassoni at gmail.com git_url: https://git.bioconductor.org/packages/HCATonsilData git_branch: RELEASE_3_22 git_last_commit: a4a1e25 git_last_commit_date: 2025-10-29 10:05:54 -0400 (Wed, 29 Oct 2025)