Package: GSVAdata Version: 1.46.0 Maintainer: Robert Castelo MaintainerEmail: robert.castelo at upf.edu git_url: https://git.bioconductor.org/packages/GSVAdata git_branch: RELEASE_3_22 git_last_commit: 36517b7 git_last_commit_date: 2025-10-29 09:32:27 -0500 (Wed, 29 Oct 2025)