Package: GSE13015 Version: 1.18.0 Maintainer: Darawan Rinchai MaintainerEmail: drinchai at gmail.com git_url: https://git.bioconductor.org/packages/GSE13015 git_branch: RELEASE_3_22 git_last_commit: 914bf11 git_last_commit_date: 2025-10-29 10:03:59 -0500 (Wed, 29 Oct 2025)