Package: GSE103322 Version: 1.15.0 Command: /home/biocbuild/bbs-3.22-bioc/R/bin/R CMD INSTALL GSE103322 StartedAt: 2025-10-02 10:59:35 -0400 (Thu, 02 Oct 2025) EndedAt: 2025-10-02 10:59:52 -0400 (Thu, 02 Oct 2025) EllapsedTime: 16.1 seconds RetCode: 0 Status: OK