Package: FlowSorted.Blood.450k Version: 1.47.0 Command: /home/biocbuild/bbs-3.22-bioc/R/bin/R CMD check --install=check:FlowSorted.Blood.450k.install-out.txt --library=/home/biocbuild/bbs-3.22-bioc/R/site-library --timings FlowSorted.Blood.450k_1.47.0.tar.gz StartedAt: 2025-10-09 12:22:42 -0400 (Thu, 09 Oct 2025) EndedAt: 2025-10-09 12:26:04 -0400 (Thu, 09 Oct 2025) EllapsedTime: 202.0 seconds RetCode: 0 Status: WARNINGS CheckDir: FlowSorted.Blood.450k.Rcheck Warnings: 1