Package: FieldEffectCrc Version: 1.19.0 Command: /home/biocbuild/bbs-3.22-bioc/R/bin/R CMD check --install=check:FieldEffectCrc.install-out.txt --library=/home/biocbuild/bbs-3.22-bioc/R/site-library --timings FieldEffectCrc_1.19.0.tar.gz StartedAt: 2025-10-28 12:20:12 -0400 (Tue, 28 Oct 2025) EndedAt: 2025-10-28 12:27:29 -0400 (Tue, 28 Oct 2025) EllapsedTime: 437.2 seconds RetCode: 0 Status: OK CheckDir: FieldEffectCrc.Rcheck Warnings: 0