Package: EpipwR.data Version: 1.3.0 Command: /home/biocbuild/bbs-3.22-bioc/R/bin/R CMD build --keep-empty-dirs --no-resave-data EpipwR.data StartedAt: 2025-10-23 11:16:02 -0400 (Thu, 23 Oct 2025) EndedAt: 2025-10-23 11:16:06 -0400 (Thu, 23 Oct 2025) EllapsedTime: 4.0 seconds RetCode: 0 Status: OK PackageFile: EpipwR.data_1.3.0.tar.gz PackageFileSize: 8.318 KiB